BEGIN:VCALENDAR
VERSION:2.0
PRODID:http://sofo-hd.de
BEGIN:VEVENT
UID:1773695950@sofo-hd.de
DTSTART:20260420T073000Z
SUMMARY:"German Classes/Deutschkurs"
LOCATION:"Murx, Oberbadgasse 6, 69117 Heidelberg"
DESCRIPTION:".. image:: https://i.ibb.co/TzM1jfT/Sofo-Deutschkurs-1
 v3.png\n\n.. image:: https://i.ibb.co/rRS7Bk4n/Sofo-D
 eutschkurs-2v3.png\n\nLearn German in a small group /
  Deutschlernen in einer kleinen Gruppe\n\n[english] W
 e'll practice communication, comprehension, vocabulary,
  pronunciation, and, if you like, grammar as well. Inte
 nsive exam preparation is also available. I'll select i
 ndividual exercises tailored to your prior knowledge an
 d send them to you by email. I'll also send the answer 
 key by email. It's best to bring a notebook to class fo
 r taking notes.\n\n[german] Wir trainieren die Kommun
 ikation, die  Verständigung, den Wortschatz, die Ausspr
 ache und wenn du möchtest auch die Grammatik. Eine inte
 nsive Prüfungsvorbereitung ist auch möglich. Die indivi
 duellen Übungsaufgaben wähle ich passend zu deinen Vork
 enntnissen. Ich schicke sie per Email. Auch die Lösunge
 n sende ich per Email. Bringe zum Unterricht am besten 
 einen Block für Notizen mit. \n\nWhere/Wo: Murx, Ober
 badgasse 6, Heidelberg \nWhen/Wann: Monday, 9.30 - 11.
 30 am/Montags, 9.30 bis 11.30\nCosts/Kosten: On a dona
 tion basis/Auf Spendenbasis\nPublic transport/ÖPNV: Ra
 thaus/Bergbahn, Heidelberg oder Alte Brücke, Heidelberg
 \nAccessibility/Barrierefreiheit: Weitgehend barrierea
 rm / Largely barrier-free\n\nImportant: If you feel i
 ll, please stay at home to protect others. Of course, i
 f you are unsure, we also have coronavirus tests, surgi
 cal masks, and FFP3 masks available on site.\n\nWicht
 ig: Solltet Ihr Euch krank fühlen, dann bleibt bitte da
 heim um andere zu schützen. Natürlich haben wir wenn Ih
 r Euch nicht sicher seid vor Ort auch Corona-Tests, OP-
 Masken und FFP3-Masken.\n\n.. image:: https://i.ibb.c
 o/NgcCM0P1/Sofo-Deutschkurs-3v3.png"
DTSTAMP:20260316T201919Z
URL:"http://sofo-hd.de/event/1773695950"
END:VEVENT
BEGIN:VEVENT
UID:1773695878@sofo-hd.de
DTSTART:20260420T090000Z
SUMMARY:"Philosophie Lesekreis"
LOCATION:"Murx, Oberbadgasse 6, 69117 Heidelberg"
DESCRIPTION:".. image:: https://i.ibb.co/VcY5CbXf/sofo-Philosophie-
 Lesekreis-1v2.png\n\nFreiheit atmen, in Alternativen 
 denken – Philosophie-Lesekreis im Murx\nDu am Ufer des
  Neckars, wo Gedanken frei fließen: Entdecke die Welt m
 it anderen Augen! In unserem wöchentlichen Lesekreis be
 gegnest du mutigen Denker:innen – zum Beispiel Hannah A
 rendt über Verantwortung, Simone de Beauvoir zur Selbst
 gestaltung, Mary Wollstonecraft für gleiche Rechte, Alb
 ert Camus zum Aufstand des Alltags, Ernst Bloch zur Hof
 fnung und Karl Marx zu alternativen Welten.\n\nGemein
 sam liest du, zweifelst du, träumst du Alternativen her
 auf: Was befreit deinen Alltag?\nWie entfalten sich kr
 itische Flügel im Hier und Jetzt?\nEin Raum für deine 
 neugierige Seele, lebendige Freiheit und inspirierende 
 Stimmen – mitten in der Heidelberger Altstadt.\nWenn I
 hr vorbei kommen wollt, meldet Euch gerne unter kultur.
 neckarau@gmail.com an.\n\nWann: Jeden Montag um 11 Uh
 r\n\nWo: Oberbadgasse 6, 69117 Heidelberg (Altstadt)
 \n\nÖPNV: Bergbahn/Rathaus, Heidelberg und Alte Brücke
 , Heidelberg\n\nBarrierefreiheit: Für Menschen in Rol
 lstühlen weitgehend barrierearm\n\nWichtig: Solltest 
 Du Dich krank fühlen, dann bleib bitte daheim um andere
  zu schützen, wir freuen uns Dich gesund beim nächsten 
 Treffen  zu sehen. Solltet Ihr Euch nicht sicher sein, 
 haben wir vor Ort auch Corona-Tests, und Masken.\n\n.
 . image:: https://i.ibb.co/WW8JwHtg/sofo-Philosophie-Le
 sekreis-2v2.png"
DTSTAMP:20260316T201805Z
URL:"http://sofo-hd.de/event/1773695878"
END:VEVENT
BEGIN:VEVENT
UID:1771026923@sofo-hd.de
DTSTART:20260420T150000Z
SUMMARY:"Murx am Montag"
LOCATION:"Oberbadgasse 6, 69117 Heidelberg"
DESCRIPTION:".. image:: https://i.ibb.co/395603p5/sofo-Murx-am-Mitt
 woch-long-1v2.png\n\nLust auf einen gemütlichen Austa
 usch, magst Du einfach dem Altstadttrubel entfliehen? G
 emütlich einen Kaffee trinken oder Dich mit jemanden un
 terhalten? Dann komm vorbei!\n\nWir sind am jeden Mon
 tag ab 15 Uhr im Murx, in der Oberbadgasse 6, in der He
 idelberger Altstadt. Es gibt Kaffee, Tee, Limonade & Co
 . auf Spendenbasis. Weitere Infos findet Ihr hier.\n\
 nWann: Jeden Montag, 15 bis 22 Uhr\n\nWo: Freiraum Mu
 rx, Oberbadgasse 6, 69117 Heidelberg-Altstadt\n\nÖPNV
 : Rathaus/Bergbahn, Heidelberg oder Alte Brücke, Heidel
 berg\n\nBarrierefreiheit: Weitgehend barrierearm\n\
 nWichtig: Solltet Ihr Euch krank fühlen, dann bleibt bi
 tte daheim, das Murx am Mittwoch gibt es an jeden Mittw
 och und wir freuen uns Euch zu sehen wenn es Euch wiede
 r gut geht. Natürlich haben wir wenn Ihr Euch nicht sic
 her seid vor Ort auch Corona-Tests. OP-Masken und FFP3-
 Masken.\n\n.. image:: https://i.ibb.co/gFBRx4PG/sofo-
 Murx-am-Mittwoch-2v2.png"
DTSTAMP:20260306T173156Z
URL:"http://sofo-hd.de/event/1771026923"
END:VEVENT
BEGIN:VEVENT
UID:1773695167@sofo-hd.de
DTSTART:20260421T160000Z
SUMMARY:"Tanzkurs-Bharatanatyam mit Amna Mawaz Khan"
LOCATION:"Oberbadgasse 6, 69117 Heidelberg"
DESCRIPTION:".. image:: https://i.ibb.co/Gvbybg95/sofo-2026-04-14-T
 anzkurs-1v2.png\n\nEN Get to know the dance form Bhar
 atanatyam, taught using experimental methods with Amna 
 Mawaz Khan.\n\nEveryBody is welcome on Tuesdays at 6p
 m in Murx, starting from 14th April. We will begin our 
 journey in a meditative and centuries-old choreography,
  Alaripu.\n\nAs space is cozy, interested participant
 s are encouraged to register by 1st April 2026, so that
  there is adequate room to move 🙂\n\nDonation based (
 suggested price per session: 15€, pay as you are able, 
 as long as you find joy in dancing!)\n\nWhere: Murx, 
 Oberbadgasse 6 69117 Heidelberg\n\nWhen: starting on 
 the 14th of April\n\nRegistration (by April 1st): roo
 tsandwings@2026@proton.me\n\nPublic transport: Rathau
 s/Bergbahn, Heidelberg or Alte Brücke, Heidelberg\n\n
 Accessibility: Largely barrier-reduced / mostly accessi
 ble\n\nDE Lerne die Tanzform Bharatanatyam kennen, di
 e mit Amna Mawaz Khan unter Verwendung experimenteller 
 Methoden unterrichtet wird.\n\nAlle sind dienstags um
  18 Uhr im Murx willkommen, beginnend am 14. April. Wir
  beginnen unsere Reise mit einer meditativen und jahrhu
 ndertealten Choreografie, dem Alaripu.\n\nDa der Raum
  recht gemütlich ist, bitten wir interessierte Teilnehm
 er\\*innen, sich bis zum 1. April 2026 anzumelden, dami
 t genügend Platz zum Bewegen vorhanden ist :)\n\nAuf 
 Spendenbasis (empfohlener Preis pro Sitzung: 15 €, zahl
 t, was ihr könnt, solange ihr Freude am Tanzen habt!)\
 n\nWo: Murx, Oberbadgasse 6, 69117 Heidelberg\n\nWan
 n: ab dem 14. April 2026\n\nAnmeldung (bis 1. April):
  rootsandwings@2026@proton.me\n\nÖPNV: Rathaus/Bergba
 hn, Heidelberg oder Alte Brücke, Heidelberg\n\nBarrie
 refreiheit: Für Menschen mit Rollstuhl weitgehend barri
 erefrei\n\n.. image:: https://i.ibb.co/TxWX0hVR/sofo-
 2026-04-14-Tanzkurs-2v2.png"
DTSTAMP:20260316T200620Z
URL:"http://sofo-hd.de/event/1773695167"
END:VEVENT
BEGIN:VEVENT
UID:1776336405@sofo-hd.de
DTSTART:20260422T090000Z
SUMMARY:"Mobilitätsberatung und Gratis-Radcheck am 22. April au
 f dem Uniplatz "
LOCATION:"Universitätsplatz"
DESCRIPTION:"ZUMobil-Infostand mit Gratis-Fahrradcheck | Mobility A
 dvice & Free Bike Check\n\nDu bist neu in Heidelberg 
 und möchtest wissen, wie du hier am besten mobil – und 
 das auch noch nachhaltig – bist? Oder interessieren dic
 h andere Themen zu umweltfreundlicher Mobilität in Heid
 elberg?\n\nKomm einfach am 22. April zum Infostand de
 s ZUMobil von 11 bis 16 Uhr auf dem Universitätsplatz!
 \n\nInformiere dich zum ÖPNV, rund ums Fahrrad, zum Ca
 rsharing und mach‘ dein Fahrrad fit fürs Semester beim 
 kostenfreien Fahrradcheck!\n\nHier gibt es weitere In
 fos:\n\nhttps://www.stura.uni-heidelberg.de/2026/04/1
 6/kostenlose-buecher-an-der-neuen-uni-17-april-2026-2/"
DTSTAMP:20260417T192338Z
URL:"http://sofo-hd.de/event/1776336405"
END:VEVENT
BEGIN:VEVENT
UID:1771026999@sofo-hd.de
DTSTART:20260422T130000Z
SUMMARY:"Murx am Mittwoch"
LOCATION:"Oberbadgasse 6, 69117 Heidelberg"
DESCRIPTION:".. image:: https://i.ibb.co/FLtwPQGj/Sofo-Murx-am-Mitt
 woch-1v2.png\n\nLust auf einen gemütlichen Austausch,
  magst Du einfach dem Altstadttrubel entfliehen? Gemütl
 ich einen Kaffee trinken oder Dich mit jemanden unterha
 lten? Dann komm vorbei!\n\nWir sind am jeden Mittwoch
  ab 15 Uhr im Murx, in der Oberbadgasse 6, in der Heide
 lberger Altstadt. Es gibt Kaffee, Tee, Limonade & Co. a
 uf Spendenbasis. Weitere Infos findet Ihr hier.\n\nWa
 nn: Jeden Mittwoch, 15 bis 22 Uhr\n\nWo: Freiraum Mur
 x, Oberbadgasse 6, 69117 Heidelberg-Altstadt\n\nÖPNV:
  Rathaus/Bergbahn, Heidelberg oder Alte Brücke, Heidelb
 erg\n\nBarrierefreiheit: Weitgehend barrierearm\n\n
 Wichtig: Solltet Ihr Euch krank fühlen, dann bleibt bit
 te daheim, das Murx am Mittwoch gibt es an jeden Mittwo
 ch und wir freuen uns Euch zu sehen wenn es Euch wieder
  gut geht. Natürlich haben wir wenn Ihr Euch nicht sich
 er seid vor Ort auch Corona-Tests. OP-Masken und FFP3-M
 asken.\n\n.. image:: https://i.ibb.co/qYVXsRJT/Sofo-M
 urx-am-Mittwoch-2v2.png"
DTSTAMP:20260310T173535Z
URL:"http://sofo-hd.de/event/1771026999"
END:VEVENT
BEGIN:VEVENT
UID:1774019000@sofo-hd.de
DTSTART:20260425T160000Z
SUMMARY:"Spieleabend im Murx"
LOCATION:"Murx, Oberbadgasse 6, 69117 Heidelberg"
DESCRIPTION:".. image:: https://i.ibb.co/LXFzMRMZ/sofo-Spieleabend-
 im-Murx-1v2.png\n\nSpieleabend im Murx\n\nAn jeden 
  4. Samstag im Monat um 18 Uhr finden im Murx ein Spiel
 eabend statt. Wir haben einige Spiele da, aber bringt g
 erne auch eigene Spiele die Euch gefallen mit.\n\nGet
 ränke gibt es wie gewohnt auf Spendenbasis. Neben versc
 hiedenen Softdrinks haben wir auch Bier und Radler und 
 natürlich sind auch Kaffee und Tee vorhanden.\n\nWann
 : Jeden 4. Samstag, 18 Uhr\n\nWo: Murx, Oberbadgasse 
 6, 69117 Heidelberg-Altstadt\n\nÖPNV: Rathaus/Bergbah
 n, Heidelberg oder Alte Brücke, Heidelberg\n\nBarrier
 efreiheit: Für Menschen mit Rollstuhl weitgehend barrie
 rearm\n\nWichtig: Solltet Ihr Euch krank fühlen, dann
  bleibt bitte daheim, es gibt jeden 4. Samstag einen Sp
 ieleabend den Ihr besuchen könnt. Natürlich haben wir w
 enn Ihr Euch nicht sicher seid vor Ort auch Corona-Test
 s, OP-Masken und FFP2-Masken.\n\n.. image:: https://i
 .ibb.co/JgW7fKC/sofo-Spieleabend-im-Murx-2v2.png"
DTSTAMP:20260320T141405Z
URL:"http://sofo-hd.de/event/1774019000"
END:VEVENT
BEGIN:VEVENT
UID:1773695964@sofo-hd.de
DTSTART:20260427T073000Z
SUMMARY:"German Classes/Deutschkurs"
LOCATION:"Murx, Oberbadgasse 6, 69117 Heidelberg"
DESCRIPTION:".. image:: https://i.ibb.co/TzM1jfT/Sofo-Deutschkurs-1
 v3.png\n\n.. image:: https://i.ibb.co/rRS7Bk4n/Sofo-D
 eutschkurs-2v3.png\n\nLearn German in a small group /
  Deutschlernen in einer kleinen Gruppe\n\n[english] W
 e'll practice communication, comprehension, vocabulary,
  pronunciation, and, if you like, grammar as well. Inte
 nsive exam preparation is also available. I'll select i
 ndividual exercises tailored to your prior knowledge an
 d send them to you by email. I'll also send the answer 
 key by email. It's best to bring a notebook to class fo
 r taking notes.\n\n[german] Wir trainieren die Kommun
 ikation, die  Verständigung, den Wortschatz, die Ausspr
 ache und wenn du möchtest auch die Grammatik. Eine inte
 nsive Prüfungsvorbereitung ist auch möglich. Die indivi
 duellen Übungsaufgaben wähle ich passend zu deinen Vork
 enntnissen. Ich schicke sie per Email. Auch die Lösunge
 n sende ich per Email. Bringe zum Unterricht am besten 
 einen Block für Notizen mit. \n\nWhere/Wo: Murx, Ober
 badgasse 6, Heidelberg \nWhen/Wann: Monday, 9.30 - 11.
 30 am/Montags, 9.30 bis 11.30\nCosts/Kosten: On a dona
 tion basis/Auf Spendenbasis\nPublic transport/ÖPNV: Ra
 thaus/Bergbahn, Heidelberg oder Alte Brücke, Heidelberg
 \nAccessibility/Barrierefreiheit: Weitgehend barrierea
 rm / Largely barrier-free\n\nImportant: If you feel i
 ll, please stay at home to protect others. Of course, i
 f you are unsure, we also have coronavirus tests, surgi
 cal masks, and FFP3 masks available on site.\n\nWicht
 ig: Solltet Ihr Euch krank fühlen, dann bleibt bitte da
 heim um andere zu schützen. Natürlich haben wir wenn Ih
 r Euch nicht sicher seid vor Ort auch Corona-Tests, OP-
 Masken und FFP3-Masken.\n\n.. image:: https://i.ibb.c
 o/NgcCM0P1/Sofo-Deutschkurs-3v3.png"
DTSTAMP:20260316T201931Z
URL:"http://sofo-hd.de/event/1773695964"
END:VEVENT
BEGIN:VEVENT
UID:1773695593@sofo-hd.de
DTSTART:20260427T090000Z
SUMMARY:"Philosophie Lesekreis"
LOCATION:"Murx, Oberbadgasse 6, 69117 Heidelberg"
DESCRIPTION:".. image:: https://i.ibb.co/VcY5CbXf/sofo-Philosophie-
 Lesekreis-1v2.png\n\nFreiheit atmen, in Alternativen 
 denken – Philosophie-Lesekreis im Murx\nDu am Ufer des
  Neckars, wo Gedanken frei fließen: Entdecke die Welt m
 it anderen Augen! In unserem wöchentlichen Lesekreis be
 gegnest du mutigen Denker:innen – zum Beispiel Hannah A
 rendt über Verantwortung, Simone de Beauvoir zur Selbst
 gestaltung, Mary Wollstonecraft für gleiche Rechte, Alb
 ert Camus zum Aufstand des Alltags, Ernst Bloch zur Hof
 fnung und Karl Marx zu alternativen Welten.\n\nGemein
 sam liest du, zweifelst du, träumst du Alternativen her
 auf: Was befreit deinen Alltag?\nWie entfalten sich kr
 itische Flügel im Hier und Jetzt?\nEin Raum für deine 
 neugierige Seele, lebendige Freiheit und inspirierende 
 Stimmen – mitten in der Heidelberger Altstadt.\nWenn I
 hr vorbei kommen wollt, meldet Euch gerne unter kultur.
 neckarau@gmail.com an.\n\nWann: Jeden Montag um 11 Uh
 r\n\nWo: Oberbadgasse 6, 69117 Heidelberg (Altstadt)
 \n\nÖPNV: Bergbahn/Rathaus, Heidelberg und Alte Brücke
 , Heidelberg\n\nBarrierefreiheit: Für Menschen in Rol
 lstühlen weitgehend barrierearm\n\nWichtig: Solltest 
 Du Dich krank fühlen, dann bleib bitte daheim um andere
  zu schützen, wir freuen uns Dich gesund beim nächsten 
 Treffen  zu sehen. Solltet Ihr Euch nicht sicher sein, 
 haben wir vor Ort auch Corona-Tests, und Masken.\n\n.
 . image:: https://i.ibb.co/WW8JwHtg/sofo-Philosophie-Le
 sekreis-2v2.png"
DTSTAMP:20260316T201414Z
URL:"http://sofo-hd.de/event/1773695593"
END:VEVENT
BEGIN:VEVENT
UID:1771026945@sofo-hd.de
DTSTART:20260427T150000Z
SUMMARY:"Murx am Montag"
LOCATION:"Oberbadgasse 6, 69117 Heidelberg"
DESCRIPTION:".. image:: https://i.ibb.co/395603p5/sofo-Murx-am-Mitt
 woch-long-1v2.png\n\nLust auf einen gemütlichen Austa
 usch, magst Du einfach dem Altstadttrubel entfliehen? G
 emütlich einen Kaffee trinken oder Dich mit jemanden un
 terhalten? Dann komm vorbei!\n\nWir sind am jeden Mon
 tag ab 15 Uhr im Murx, in der Oberbadgasse 6, in der He
 idelberger Altstadt. Es gibt Kaffee, Tee, Limonade & Co
 . auf Spendenbasis. Weitere Infos findet Ihr hier.\n\
 nWann: Jeden Montag, 15 bis 22 Uhr\n\nWo: Freiraum Mu
 rx, Oberbadgasse 6, 69117 Heidelberg-Altstadt\n\nÖPNV
 : Rathaus/Bergbahn, Heidelberg oder Alte Brücke, Heidel
 berg\n\nBarrierefreiheit: Weitgehend barrierearm\n\
 nWichtig: Solltet Ihr Euch krank fühlen, dann bleibt bi
 tte daheim, das Murx am Mittwoch gibt es an jeden Mittw
 och und wir freuen uns Euch zu sehen wenn es Euch wiede
 r gut geht. Natürlich haben wir wenn Ihr Euch nicht sic
 her seid vor Ort auch Corona-Tests. OP-Masken und FFP3-
 Masken.\n\n.. image:: https://i.ibb.co/gFBRx4PG/sofo-
 Murx-am-Mittwoch-2v2.png"
DTSTAMP:20260306T173135Z
URL:"http://sofo-hd.de/event/1771026945"
END:VEVENT
BEGIN:VEVENT
UID:1773695184@sofo-hd.de
DTSTART:20260428T160000Z
SUMMARY:"Tanzkurs-Bharatanatyam mit Amna Mawaz Khan"
LOCATION:"Oberbadgasse 6, 69117 Heidelberg"
DESCRIPTION:".. image:: https://i.ibb.co/Gvbybg95/sofo-2026-04-14-T
 anzkurs-1v2.png\n\nEN Get to know the dance form Bhar
 atanatyam, taught using experimental methods with Amna 
 Mawaz Khan.\n\nEveryBody is welcome on Tuesdays at 6p
 m in Murx, starting from 14th April. We will begin our 
 journey in a meditative and centuries-old choreography,
  Alaripu.\n\nAs space is cozy, interested participant
 s are encouraged to register by 1st April 2026, so that
  there is adequate room to move 🙂\n\nDonation based (
 suggested price per session: 15€, pay as you are able, 
 as long as you find joy in dancing!)\n\nWhere: Murx, 
 Oberbadgasse 6 69117 Heidelberg\n\nWhen: starting on 
 the 14th of April\n\nRegistration (by April 1st): roo
 tsandwings@2026@proton.me\n\nPublic transport: Rathau
 s/Bergbahn, Heidelberg or Alte Brücke, Heidelberg\n\n
 Accessibility: Largely barrier-reduced / mostly accessi
 ble\n\nDE Lerne die Tanzform Bharatanatyam kennen, di
 e mit Amna Mawaz Khan unter Verwendung experimenteller 
 Methoden unterrichtet wird.\n\nAlle sind dienstags um
  18 Uhr im Murx willkommen, beginnend am 14. April. Wir
  beginnen unsere Reise mit einer meditativen und jahrhu
 ndertealten Choreografie, dem Alaripu.\n\nDa der Raum
  recht gemütlich ist, bitten wir interessierte Teilnehm
 er\\*innen, sich bis zum 1. April 2026 anzumelden, dami
 t genügend Platz zum Bewegen vorhanden ist :)\n\nAuf 
 Spendenbasis (empfohlener Preis pro Sitzung: 15 €, zahl
 t, was ihr könnt, solange ihr Freude am Tanzen habt!)\
 n\nWo: Murx, Oberbadgasse 6, 69117 Heidelberg\n\nWan
 n: ab dem 14. April 2026\n\nAnmeldung (bis 1. April):
  rootsandwings@2026@proton.me\n\nÖPNV: Rathaus/Bergba
 hn, Heidelberg oder Alte Brücke, Heidelberg\n\nBarrie
 refreiheit: Für Menschen mit Rollstuhl weitgehend barri
 erefrei\n\n.. image:: https://i.ibb.co/TxWX0hVR/sofo-
 2026-04-14-Tanzkurs-2v2.png"
DTSTAMP:20260316T200634Z
URL:"http://sofo-hd.de/event/1773695184"
END:VEVENT
BEGIN:VEVENT
UID:1771027018@sofo-hd.de
DTSTART:20260429T130000Z
SUMMARY:"Murx am Mittwoch"
LOCATION:"Oberbadgasse 6, 69117 Heidelberg"
DESCRIPTION:".. image:: https://i.ibb.co/FLtwPQGj/Sofo-Murx-am-Mitt
 woch-1v2.png\n\nLust auf einen gemütlichen Austausch,
  magst Du einfach dem Altstadttrubel entfliehen? Gemütl
 ich einen Kaffee trinken oder Dich mit jemanden unterha
 lten? Dann komm vorbei!\n\nWir sind am jeden Mittwoch
  ab 15 Uhr im Murx, in der Oberbadgasse 6, in der Heide
 lberger Altstadt. Es gibt Kaffee, Tee, Limonade & Co. a
 uf Spendenbasis. Weitere Infos findet Ihr hier.\n\nWa
 nn: Jeden Mittwoch, 15 bis 22 Uhr\n\nWo: Freiraum Mur
 x, Oberbadgasse 6, 69117 Heidelberg-Altstadt\n\nÖPNV:
  Rathaus/Bergbahn, Heidelberg oder Alte Brücke, Heidelb
 erg\n\nBarrierefreiheit: Weitgehend barrierearm\n\n
 Wichtig: Solltet Ihr Euch krank fühlen, dann bleibt bit
 te daheim, das Murx am Mittwoch gibt es an jeden Mittwo
 ch und wir freuen uns Euch zu sehen wenn es Euch wieder
  gut geht. Natürlich haben wir wenn Ihr Euch nicht sich
 er seid vor Ort auch Corona-Tests. OP-Masken und FFP3-M
 asken.\n\n.. image:: https://i.ibb.co/qYVXsRJT/Sofo-M
 urx-am-Mittwoch-2v2.png"
DTSTAMP:20260310T173504Z
URL:"http://sofo-hd.de/event/1771027018"
END:VEVENT
BEGIN:VEVENT
UID:1775716505@sofo-hd.de
DTSTART:20260429T170000Z
SUMMARY:"BildBar | Kunstgenuss an der Bar"
LOCATION:"Murx, Oberbadgasse 6, 69117 Heidelberg"
DESCRIPTION:".. image:: https://i.ibb.co/gLj7rp0c/sofo-Bild-Bar-1v3
 -min.jpg\n.. image:: https://i.ibb.co/Q7ZMmz73/sofo-Bi
 ld-Bar-2v3-min.jpg\n\nKunst und Kultur erlaubt uns da
 s individuell biographische bis gesellschaftlich politi
 sch einzuordnen und zu verarbeiten.\n\nFernab der täg
 lichen Bildflut ist die BildBar ein Angebot, Fotografie
 n bewusst wahrzunehmen, ihre Wirkung zu hinterfragen un
 d sich mit den einzelnen Fotograf*innen auszutauschen.
 \n\nAn drei Abenden erleben wir Bild-Performanches von
  fünf Foto-Künstlerinnen der Coachinggruppen von Gülay 
 Keskin. www.keskin-arts.com\n\nEintritt frei\n\nKes
 kin arts, Atelier für Kunstfotografie in Heidelberg, [w
 ww.keskin-arts.com](\n\nWas: Bildbesprechung und Aust
 ausch mit den Künstlern\n\nWann: Mittwoch, 29. April,
  Mittwoch, 06. Mai, Dienstag, 09. Juni, jeweils um 19 -
  22 Uhr\n\nWo: Murx, Oberbadgasse 6, 69117 Heidelberg
 \n\nÖPNV: Bergbahn/Rathaus, Heidelberg und Alte Brück
 e, Heidelberg\n\nBarrierefreiheit: Für Menschen in Ro
 llstühlen weitgehend barrierearm\n\n.. image:: https:
 //i.ibb.co/kgttn7wd/sofo-Bild-Bar-3v3.png"
DTSTAMP:20260409T044017Z
URL:"http://sofo-hd.de/event/1775716505"
END:VEVENT
BEGIN:VEVENT
UID:1776283162@sofo-hd.de
DTSTART:20260429T170000Z
SUMMARY:"Vortrag: „Wohnen und Bauen in Dossenheim. Konzepte für
 \ndie Zukunft“"
LOCATION:"Rathaussaal Dossenheim"
DESCRIPTION:"Derzeit wird in nahezu allen Kommunen nach bezahlbarem
  Wohnraum\ngesucht. Doch gibt es überhaupt eine Wohnun
 gsnot oder ist das nicht\nvielmehr eine Wohnungspreisn
 ot? Welche Art von Wohnraum wird heute und\nin Zukunft
  wirklich gebraucht? Wie sollte eine – wirtschaftlich u
 nd\nsozial – nachhaltige Siedlungsplanung aussehen? We
 lche Folgen hat\nder demographische Wandel auf den Imm
 obilienmarkt? \n\nAnhand von aktuellen Zahlen des Sta
 tistischen Landesamtes analysiert\nder Geograph Stefan
  Flaig vom Beratungsunternehmen Ökonsult aus\nStuttgar
 t die aktuelle Situation des Wohnungsbestandes in Dosse
 nheim\nund deren Konsequenzen für die Wohnbaupolitik. 
 Stefan Flaig\nbeschäftigt sich seit über 20 Jahren mit
  der kommunalen\nSiedlungsplanung. \n\nDie Veranstal
 tung findet in Kooperation mit dem `BUND RV\nRhein-Nec
 kar-Odenwald`_ und dem `Augustenbühl e.V.`_ statt.\n\
 n.. _BUND RV Rhein-Neckar-Odenwald: https://www.bund-rh
 ein-neckar-odenwald.de/\n.. _Augustenbühl e.V.: https:
 //www.augustenbuehl.de/\n\nSiehe auch https://dossenh
 eim.bund.net/fileadmin/dossenheim/Augustenbuehl/Stellun
 gnahme-Dossenheim-Feb-26--2-.pdf"
DTSTAMP:20260415T180244Z
URL:"http://sofo-hd.de/event/1776283162"
END:VEVENT
BEGIN:VEVENT
UID:1773695197@sofo-hd.de
DTSTART:20260505T160000Z
SUMMARY:"Tanzkurs-Bharatanatyam mit Amna Mawaz Khan"
LOCATION:"Oberbadgasse 6, 69117 Heidelberg"
DESCRIPTION:".. image:: https://i.ibb.co/Gvbybg95/sofo-2026-04-14-T
 anzkurs-1v2.png\n\nEN Get to know the dance form Bhar
 atanatyam, taught using experimental methods with Amna 
 Mawaz Khan.\n\nEveryBody is welcome on Tuesdays at 6p
 m in Murx, starting from 14th April. We will begin our 
 journey in a meditative and centuries-old choreography,
  Alaripu.\n\nAs space is cozy, interested participant
 s are encouraged to register by 1st April 2026, so that
  there is adequate room to move 🙂\n\nDonation based (
 suggested price per session: 15€, pay as you are able, 
 as long as you find joy in dancing!)\n\nWhere: Murx, 
 Oberbadgasse 6 69117 Heidelberg\n\nWhen: starting on 
 the 14th of April\n\nRegistration (by April 1st): roo
 tsandwings@2026@proton.me\n\nPublic transport: Rathau
 s/Bergbahn, Heidelberg or Alte Brücke, Heidelberg\n\n
 Accessibility: Largely barrier-reduced / mostly accessi
 ble\n\nDE Lerne die Tanzform Bharatanatyam kennen, di
 e mit Amna Mawaz Khan unter Verwendung experimenteller 
 Methoden unterrichtet wird.\n\nAlle sind dienstags um
  18 Uhr im Murx willkommen, beginnend am 14. April. Wir
  beginnen unsere Reise mit einer meditativen und jahrhu
 ndertealten Choreografie, dem Alaripu.\n\nDa der Raum
  recht gemütlich ist, bitten wir interessierte Teilnehm
 er\\*innen, sich bis zum 1. April 2026 anzumelden, dami
 t genügend Platz zum Bewegen vorhanden ist :)\n\nAuf 
 Spendenbasis (empfohlener Preis pro Sitzung: 15 €, zahl
 t, was ihr könnt, solange ihr Freude am Tanzen habt!)\
 n\nWo: Murx, Oberbadgasse 6, 69117 Heidelberg\n\nWan
 n: ab dem 14. April 2026\n\nAnmeldung (bis 1. April):
  rootsandwings@2026@proton.me\n\nÖPNV: Rathaus/Bergba
 hn, Heidelberg oder Alte Brücke, Heidelberg\n\nBarrie
 refreiheit: Für Menschen mit Rollstuhl weitgehend barri
 erefrei\n\n.. image:: https://i.ibb.co/TxWX0hVR/sofo-
 2026-04-14-Tanzkurs-2v2.png"
DTSTAMP:20260316T200647Z
URL:"http://sofo-hd.de/event/1773695197"
END:VEVENT
BEGIN:VEVENT
UID:1775716828@sofo-hd.de
DTSTART:20260506T170000Z
SUMMARY:"BildBar | Kunstgenuss an der Bar"
LOCATION:"Murx, Oberbadgasse 6, 69117 Heidelberg"
DESCRIPTION:".. image:: https://i.ibb.co/gLj7rp0c/sofo-Bild-Bar-1v3
 -min.jpg\n.. image:: https://i.ibb.co/Q7ZMmz73/sofo-Bi
 ld-Bar-2v3-min.jpg\n\nKunst und Kultur erlaubt uns da
 s individuell biographische bis gesellschaftlich politi
 sch einzuordnen und zu verarbeiten.\n\nFernab der täg
 lichen Bildflut ist die BildBar ein Angebot, Fotografie
 n bewusst wahrzunehmen, ihre Wirkung zu hinterfragen un
 d sich mit den einzelnen Fotograf*innen auszutauschen.
 \n\nAn drei Abenden erleben wir Bild-Performanches von
  fünf Foto-Künstlerinnen der Coachinggruppen von Gülay 
 Keskin. www.keskin-arts.com\n\nEintritt frei\n\nKes
 kin arts, Atelier für Kunstfotografie in Heidelberg, [w
 ww.keskin-arts.com](\n\nWas: Bildbesprechung und Aust
 ausch mit den Künstlern\n\nWann: Mittwoch, 29. April,
  Mittwoch, 06. Mai, Dienstag, 09. Juni, jeweils um 19 -
  22 Uhr\n\nWo: Murx, Oberbadgasse 6, 69117 Heidelberg
 \n\nÖPNV: Bergbahn/Rathaus, Heidelberg und Alte Brück
 e, Heidelberg\n\nBarrierefreiheit: Für Menschen in Ro
 llstühlen weitgehend barrierearm\n\n.. image:: https:
 //i.ibb.co/kgttn7wd/sofo-Bild-Bar-3v3.png"
DTSTAMP:20260409T044052Z
URL:"http://sofo-hd.de/event/1775716828"
END:VEVENT
BEGIN:VEVENT
UID:1773695244@sofo-hd.de
DTSTART:20260512T160000Z
SUMMARY:"Tanzkurs-Bharatanatyam mit Amna Mawaz Khan"
LOCATION:"Oberbadgasse 6, 69117 Heidelberg"
DESCRIPTION:".. image:: https://i.ibb.co/Gvbybg95/sofo-2026-04-14-T
 anzkurs-1v2.png\n\nEN Get to know the dance form Bhar
 atanatyam, taught using experimental methods with Amna 
 Mawaz Khan.\n\nEveryBody is welcome on Tuesdays at 6p
 m in Murx, starting from 14th April. We will begin our 
 journey in a meditative and centuries-old choreography,
  Alaripu.\n\nAs space is cozy, interested participant
 s are encouraged to register by 1st April 2026, so that
  there is adequate room to move 🙂\n\nDonation based (
 suggested price per session: 15€, pay as you are able, 
 as long as you find joy in dancing!)\n\nWhere: Murx, 
 Oberbadgasse 6 69117 Heidelberg\n\nWhen: starting on 
 the 14th of April\n\nRegistration (by April 1st): roo
 tsandwings@2026@proton.me\n\nPublic transport: Rathau
 s/Bergbahn, Heidelberg or Alte Brücke, Heidelberg\n\n
 Accessibility: Largely barrier-reduced / mostly accessi
 ble\n\nDE Lerne die Tanzform Bharatanatyam kennen, di
 e mit Amna Mawaz Khan unter Verwendung experimenteller 
 Methoden unterrichtet wird.\n\nAlle sind dienstags um
  18 Uhr im Murx willkommen, beginnend am 14. April. Wir
  beginnen unsere Reise mit einer meditativen und jahrhu
 ndertealten Choreografie, dem Alaripu.\n\nDa der Raum
  recht gemütlich ist, bitten wir interessierte Teilnehm
 er\\*innen, sich bis zum 1. April 2026 anzumelden, dami
 t genügend Platz zum Bewegen vorhanden ist :)\n\nAuf 
 Spendenbasis (empfohlener Preis pro Sitzung: 15 €, zahl
 t, was ihr könnt, solange ihr Freude am Tanzen habt!)\
 n\nWo: Murx, Oberbadgasse 6, 69117 Heidelberg\n\nWan
 n: ab dem 14. April 2026\n\nAnmeldung (bis 1. April):
  rootsandwings@2026@proton.me\n\nÖPNV: Rathaus/Bergba
 hn, Heidelberg oder Alte Brücke, Heidelberg\n\nBarrie
 refreiheit: Für Menschen mit Rollstuhl weitgehend barri
 erefrei\n\n.. image:: https://i.ibb.co/TxWX0hVR/sofo-
 2026-04-14-Tanzkurs-2v2.png"
DTSTAMP:20260316T200733Z
URL:"http://sofo-hd.de/event/1773695244"
END:VEVENT
END:VCALENDAR
