BEGIN:VCALENDAR
VERSION:2.0
PRODID:http://sofo-hd.de
BEGIN:VEVENT
UID:1776799899@sofo-hd.de
DTSTART:20260509T090000Z
SUMMARY:"Jungpflanzenmarkt in der Gärtnerei Wildwuchs e.V.🪴☀️"
LOCATION:"Gemeinschaftsgärtnerei Wildwuchs, in den Handschuhshei
 mer Feldern (Wegbeschreibung dorthin kann gerne erfragt
  werden kontakt@wildwuchs-hd.de)"
DESCRIPTION:"Herzliche Einladung zum Jungpflanzenmarkt am Samstag, 
 9. Mai im Südgarten der Gemeinschaftsgärtnerei Wildwuch
 s e.V. Von 11 bis 14 Uhr stehen allen die Tore offen fü
 r den Pflänzchen-Tausch und Kauf, dazu gibt's gemütlich
 en Kaffee-Kuchen-Plausch. Dabei kann auch die Gemeinsch
 aftsgärtnerei kennengelernt werden.🪴☀️ "
DTSTAMP:20260421T214042Z
URL:"http://sofo-hd.de/event/1776799899"
END:VEVENT
END:VCALENDAR
