BEGIN:VCALENDAR
VERSION:2.0
PRODID:http://sofo-hd.de
BEGIN:VEVENT
UID:1771793534@sofo-hd.de
DTSTART:20260512T220500Z
SUMMARY:"ÜBERMORGEN: Deadline für QSM-Anträge"
DESCRIPTION:"wie jedes Jahr steht am 15. Mai die Deadline für die z
 weite (und damit für dieses Haushaltsjahr finale) Runde
  der Vergabe der studentischen Qualitätssicherungsmitte
 l an. Alle, die zum ersten Vergabetermin im Januar nich
 t ihr volles Budget ausgeschöpft und damit noch Restmit
 tel für Projekte im kommenden Wintersemester haben, müs
 sen sich jetzt ranhalten.\n\nEine Auflistung, wieviel
  jede Fachschaft in der ersten Runde beantragt habt, fi
 ndet ihr auf der Seite des QSM-Referats:\n\nhttps://w
 ww.stura.uni-heidelberg.de/vs-strukturen/referate/qsm/
 \n\nZu diesem Termin können auch alle Studierenden Ant
 räge an den QSM-Ausschuss stellen, der über die Verteil
 ung der \"Restmittel\", die Mittel, die die Fachschafte
 n nicht ausgegeben haben, beschließt. Eine Prognose dar
 über, wieviel Geld es am Ende über die Kommission zu ve
 rteilen gibt, ist nicht möglich.\n\nWenn ihr jetzt no
 ch keine Anträge gestellt habt oder letzte Fragen habt:
  wendet euch ans QSM-Referat.\n\nMit Fragen wendet eu
 ch an qsm@stura.uni-heidelberg.de"
DTSTAMP:20260325T095635Z
URL:"http://sofo-hd.de/event/1771793534"
END:VEVENT
BEGIN:VEVENT
UID:1771793276@sofo-hd.de
DTSTART:20260515T215900Z
SUMMARY:"Deadline für QSM-Anträge"
DESCRIPTION:"wie jedes Jahr steht mit dem 15. Mai die Deadline für 
 die zweite (und damit für dieses Haushaltsjahr finale) 
 Runde der Vergabe der studentischen Qualitätssicherungs
 mittel (stud. QSM) an. Alle, die zum ersten Vergabeterm
 in im Januar nicht ihr volles Budget ausgeschöpft haben
  und damit noch Restmittel für Projekte im kommenden Wi
 ntersemester haben, sollten sich jetzt ranhalten mit An
 trägen und bis Mitternacht einreichen.\n\nIn der zwei
 ten Antragsrunde können Fachschaften ihr aber nicht nur
  Anträge über die ihnen zugewiesenen Mittel stellen, so
 ndern es können auch alle Studierenden Anträge an die Q
 SM-Kommission richten. Die QSM-Kommission vergibt die \
 "Restmittel\", das sind die Mittel, die von den Fachsch
 aften nicht ausgegeben wurden. \n\nEine Prognose darü
 ber, wieviel Geld es am Ende über die Kommission zu ver
 teilen gibt, ist nicht möglich.\n\nEine Auflistung, w
 ieviel jede Fachschaft in der ersten Runde beantragt ha
 bt, findet ihr auf der Seite des QSM-Referats:\nhttps:
 //www.stura.uni-heidelberg.de/vs-strukturen/referate/qs
 m/\n\nMit Fragen wendet euch an qsm@stura.uni-heidelb
 erg.de"
DTSTAMP:20260222T195021Z
URL:"http://sofo-hd.de/event/1771793276"
END:VEVENT
END:VCALENDAR
