BEGIN:VCALENDAR
VERSION:2.0
PRODID:http://sofo-hd.de
BEGIN:VEVENT
UID:1775814557@sofo-hd.de
DTSTART:20260423T160000Z
SUMMARY:"DEFEND PROSFYGIKA ✊ - Info- und Soliveranstaltung"
LOCATION:"Murx, Oberbadgasse 6, 69117 Heidelberg"
DESCRIPTION:".. image:: https://i.ibb.co/C59w78mz/sofo-2026-04-23-D
 efend-Prosfygika-1v2.png\n\nDie Gemeinschaft des bese
 tzten Prosfygika ist ein horizontales, selbstorganisier
 tes sozio-politisches Projekt des Kampfes der sozialen 
 Basis. Das besetzte Viertel im Zentrum von Athen ist He
 imat von 400 Menschen und ein Vorschlag für die Organis
 ation einer befreiten Gesellschaft. Internationale Klas
 sensolidarität ist notwendig, um diesen befreiten Boden
  zu verteidigen! Die Gemeinschaft braucht dringend fina
 nzielle Unterstützung für ihren Kampf.\n\nWir wollen 
 die Menschen in Prosfygika solidarisch unterstützten un
 d haben deshalb eine KüfA und Merch organisiert. Außerd
 em wollen wir mit Euch ein Solifoto aufnehmen und den M
 enschen dort schicken.\n\nWeitere Infos zu Prosfygika
  gibt es hier: https://sykaprosquat.noblogs.org/english
 /the-community\n\nWas: Info- und Soliveranstaltung fü
 r Prosfygika\n\nWann: Donnerstag, 23. April 2026, 18 
 Uhr\n\nWo: Murx, Oberbadgasse 6, 69117 Heidelberg\n
 \nÖPNV: Bergbahn/Rathaus, Heidelberg und Alte Brücke, H
 eidelberg\n\nBarrierefreiheit: Für Menschen in Rollst
 ühlen weitgehend barrierearm\n\n.. image:: https://i.
 ibb.co/ZpgyPSx4/sofo-2026-04-23-Defend-Prosfygika-2v2.p
 ng"
DTSTAMP:20260410T080049Z
URL:"http://sofo-hd.de/event/1775814557"
END:VEVENT
END:VCALENDAR
