BEGIN:VCALENDAR
VERSION:2.0
PRODID:http://sofo-hd.de
BEGIN:VEVENT
UID:1776944554@sofo-hd.de
DTSTART:20260428T130000Z
SUMMARY:"Infoveranstaltung zu studentischem Wohnen und Mietrech
 t"
LOCATION:"Lesecafé über dem Marstallcafé"
DESCRIPTION:"Ob Unstimmigkeiten in der Wohngemeinschaft, Schimmelbi
 ldung in der Wohnung oder die verzögerte Rückzahlung de
 r Kaution – Mietprobleme gehören für viele Studierende 
 zum Alltag. Oft fehlt jedoch das notwendige Wissen über
  die eigene Rechtslage, um Forderungen gegenüber Vermie
 ter:innen wirksam durchzusetzen.\n\nAls Sozialreferat
  der Verfassten Studierendenschaft möchten wir hier unt
 erstützen. Gemeinsam mit dem Mieterverein Heidelberg la
 den wir euch zu einer Informationsveranstaltung ein, di
 e Mietrecht praxisnah und verständlich aufbereitet.\nD
 ie Schwerpunkte der Veranstaltung:\n\n    Vertragsgru
 ndlagen: Differenzierung der verschiedenen Mietvertrags
 modelle. 📄\n\n    Fokus WG-Recht: Haftungsfragen im H
 auptmietvertrag und typische rechtliche Fallstricke. 🏠⚠
 ️\n\n    Mängelansprüche: Korrektes Vorgehen bei Schi
 mmel oder technischen Defekten. 🦠🔧\n\n    Mietpreispr
 üfung: Anwendung der Mietpreisbremse und des Heidelberg
 er Mietspiegels. 💸\n\n    Auszug & Übergabe: Rechtssi
 chere Abwicklung von Kautionsrückzahlungen. 📦\n\nIm A
 nschluss an den Vortrag gibt es eine Q&A-Runde, in der 
 ihr eure spezifischen Fragen direkt an die Expert:innen
  richten könnt. Zudem informieren wir über weiterführen
 de Beratungsangebote für Studierende.\nTermindaten:\n
 \n    📅 Datum: 28.04.\n\n    🕒 Uhrzeit: 15:00–17:00 
 Uhr\n\n    📍 Ort: Lesecafé (über dem Marstallcafé), M
 arstallhof 5, 69117 Heidelberg\n\n    💡 Eintritt: Kos
 tenlos\n\nInformiert euch und sichert eure Rechte im 
 Mietverhältnis ab. Leitet diese Information gerne an eu
 re Mitbewohner*innen und Kommiliton*innen weiter."
DTSTAMP:20260423T144011Z
URL:"http://sofo-hd.de/event/1776944554"
END:VEVENT
END:VCALENDAR
