BEGIN:VCALENDAR
VERSION:2.0
PRODID:http://sofo-hd.de
BEGIN:VEVENT
UID:1771751796@sofo-hd.de
DTSTART:20260513T170000Z
SUMMARY:"Sprechstunde der Roten Hilfe HD/MA: Rechtshilfeberatun
 g für von Repression Betroffene"
LOCATION:gegendruck
DESCRIPTION:"Sprechstunde der Roten Hilfe HD/MA: Rechtshilfeberatun
 g für von Repression Betroffene\n\nBöse Post von Poli
 zei und Staatsanwaltschaft nach einer Demo? Fragen, wie
  es nach der Festnahme bei der Blockade weitergeht? Lin
 ke Aktivist*innen, die wegen einer politischen Aktion R
 epression abbekommen und Tipps zum Umgang damit benötig
 en, können von 19 bis 20 Uhr im Café Gegendruck Aktive 
 der Roten Hilfe HD/MA treffen und mit ihnen das weitere
  Vorgehen besprechen."
DTSTAMP:20260222T081635Z
URL:"http://sofo-hd.de/event/1771751796"
END:VEVENT
END:VCALENDAR
