BEGIN:VCALENDAR
VERSION:2.0
PRODID:http://sofo-hd.de
BEGIN:VEVENT
UID:1776181427@sofo-hd.de
DTSTART:20260424T140000Z
SUMMARY:"Offene Sozialsprechstunde (16–19 Uhr)"
LOCATION:sand
DESCRIPTION:"Du hast Fragen zum BAföG oder zum Notlagenzuschuss? Od
 er möchtest ganz grundsätzlich mal über das Thema Studi
 enfinanzierung sprechen? Dann komm in die offene Sprech
 stunde unseres Sozialreferats zwischen 16:00 und 19:00 
 Uhr! Wir beraten euch dort auch gerne auch zu weiteren 
 Förderungsmöglichkeiten und Anlaufstellen. Hier helfen 
 dir andere Studierende mit ihrer Expertise weiter – ged
 uldig, kompetent, diskret.\n\nEine Anmeldung ist nich
 t erforderlich, kommt einfach vorbei!\n\nWeitere Info
 s findet ihr immer hier:\nhttps://sturahd.de/soziales"
DTSTAMP:20260414T134659Z
URL:"https://sofo-hd.de/event/1776181427"
END:VEVENT
BEGIN:VEVENT
UID:1776181776@sofo-hd.de
DTSTART:20260501T140000Z
SUMMARY:"Offene Sozialsprechstunde (16–19 Uhr)"
LOCATION:sand
DESCRIPTION:"Du hast Fragen zum BAföG oder zum Notlagenzuschuss? Od
 er möchtest ganz grundsätzlich mal über das Thema Studi
 enfinanzierung sprechen? Dann komm in die offene Sprech
 stunde unseres Sozialreferats zwischen 16:00 und 19:00 
 Uhr! Wir beraten euch dort auch gerne auch zu weiteren 
 Förderungsmöglichkeiten und Anlaufstellen. Hier helfen 
 dir andere Studierende mit ihrer Expertise weiter – ged
 uldig, kompetent, diskret.\n\nEine Anmeldung ist nich
 t erforderlich, kommt einfach vorbei!\n\nWeitere Info
 s findet ihr immer hier:\nhttps://sturahd.de/soziales"
DTSTAMP:20260414T134936Z
URL:"https://sofo-hd.de/event/1776181776"
END:VEVENT
BEGIN:VEVENT
UID:1776181777@sofo-hd.de
DTSTART:20260508T140000Z
SUMMARY:"Offene Sozialsprechstunde (16–19 Uhr)"
LOCATION:sand
DESCRIPTION:"Du hast Fragen zum BAföG oder zum Notlagenzuschuss? Od
 er möchtest ganz grundsätzlich mal über das Thema Studi
 enfinanzierung sprechen? Dann komm in die offene Sprech
 stunde unseres Sozialreferats zwischen 16:00 und 19:00 
 Uhr! Wir beraten euch dort auch gerne auch zu weiteren 
 Förderungsmöglichkeiten und Anlaufstellen. Hier helfen 
 dir andere Studierende mit ihrer Expertise weiter – ged
 uldig, kompetent, diskret.\n\nEine Anmeldung ist nich
 t erforderlich, kommt einfach vorbei!\n\nWeitere Info
 s findet ihr immer hier:\nhttps://sturahd.de/soziales"
DTSTAMP:20260414T134936Z
URL:"https://sofo-hd.de/event/1776181777"
END:VEVENT
END:VCALENDAR
