BEGIN:VCALENDAR
VERSION:2.0
PRODID:http://sofo-hd.de
BEGIN:VEVENT
UID:1775582703@sofo-hd.de
DTSTART:20260419T133000Z
SUMMARY:"Antifaschistische Wanderung mit Inputs"
LOCATION:Hans-Thoma-Platz
DESCRIPTION:"Die dreieinhalbstündige antifaschistische Wanderung ge
 ht über die umliegenden Berge in die Altstadt. An histo
 risch bedeutenden Plätzen gibt es bei einer Pause Infor
 mationen zu einzelnen Aspekten des NS-Faschismus in Hei
 delberg, aber auch zu antifaschistischem Widerstand. Di
 e Route umfasst etwa 7 Kilometer und 350 Höhenmeter. Fü
 r die Waldwege ist stabiles Schuhwerk sinnvoll. Im Ansc
 hluss lassen wir den Abend bei der Küfa im Café Gegendr
 uck ausklingen. Veranstaltet von AIHD und VVN-BdA HD"
DTSTAMP:20260407T153317Z
URL:"https://sofo-hd.de/event/1775582703"
END:VEVENT
BEGIN:VEVENT
UID:1775583213@sofo-hd.de
DTSTART:20260420T170000Z
SUMMARY:Canva-Workshop
LOCATION:"Haus der Christuskirche, Zähringer Str. 26"
DESCRIPTION:"Ein Workshop für alle, die sich fragen: Wie zur Hölle 
 gestalte ich ein Sharepic ohne fünfzehn rosa Delfine un
 d Comic Sans? Der Workshop vermittelt die wichtigsten G
 rundlagen, um mit Canva übersichtliche und ansprechende
  Sharepics, Plakate und Flyer für Demos und Veranstaltu
 ngen oder auch andere kreative Dinge, wie zum Beispiel 
 Sticker, zu gestalten. Darüber hinaus werden wir uns au
 ch damit befassen, wie du Bilder und anderes Layout-Mat
 erial finden kannst.\n\nWir wollen das Gelernte gleic
 h ausprobieren, deswegen bringt eure Laptops mit und me
 ldet euch gerne schonmal online kostenlos auf Canva an.
  An Handy und Tablet funktioniert Canva auch, ist aller
 dings sehr umständlich.\n\nVeranstaltet von Seebrücke
  und AIHD"
DTSTAMP:20260410T163401Z
URL:"https://sofo-hd.de/event/1775583213"
END:VEVENT
BEGIN:VEVENT
UID:1775583334@sofo-hd.de
DTSTART:20260421T170000Z
SUMMARY:"Filmabend zum Leben im von Krieg und Genozid zerstörte
 n Gaza"
LOCATION:gegendruck
DESCRIPTION:"Filmabend zum Leben im von Krieg und Genozid zerstörte
 n Gaza\n\nVeranstaltet von Seebrücke HD"
DTSTAMP:20260407T153652Z
URL:"https://sofo-hd.de/event/1775583334"
END:VEVENT
BEGIN:VEVENT
UID:1775583420@sofo-hd.de
DTSTART:20260422T170000Z
SUMMARY:"Vortrag \"Das Vaterland retten - auf rechts oder auf g
 anz rechts\""
LOCATION:"Neuer Hörsaal, Albert-Ueberle-Straße 7 (beim Stura-Bür
 o)"
DESCRIPTION:"Vortrag: Das Vaterland retten - auf rechts oder auf ga
 nz rechts. Deutschlands CDU/CSU und AfD im Widerstreit 
 zweier Diagnosen von nationalem Notstand und nationalem
  Erfolgsweg\n\nVeranstaltet von der ROSA Hochschulgru
 ppe (Resolute Organisation für Solidarität und Antikapi
 talismus) mit versus-Politik\n\n"
DTSTAMP:20260407T153848Z
URL:"https://sofo-hd.de/event/1775583420"
END:VEVENT
BEGIN:VEVENT
UID:1775583540@sofo-hd.de
DTSTART:20260424T170000Z
SUMMARY:"Trinken mit Linken"
LOCATION:"Neckarwiese (genauer Ort folgt)"
DESCRIPTION:"Trinken mit Linken auf der Neckarwiese (genauer Stando
 rt wird auf Social Media bekannt gegeben)\n\nVeransta
 ltet von der Linksjugend ['solid]"
DTSTAMP:20260407T154036Z
URL:"https://sofo-hd.de/event/1775583540"
END:VEVENT
BEGIN:VEVENT
UID:1771751671@sofo-hd.de
DTSTART:20260426T170000Z
SUMMARY:"leckeres veganes Essen mit Input zur Normannia"
LOCATION:gegendruck
DESCRIPTION:"leckeres veganes Essen - jeden Sonntag im Gegendruck! 
 im April noch ab 19 Uhr\n\ndiesmal von der AIHD mit I
 nput zur Burschenschaft Normannia"
DTSTAMP:20260407T154148Z
URL:"https://sofo-hd.de/event/1771751671"
END:VEVENT
BEGIN:VEVENT
UID:1775583738@sofo-hd.de
DTSTART:20260426T180000Z
SUMMARY:"Input zur Normannia bei der Küfa"
LOCATION:gegendruck
DESCRIPTION:"Input der AIHD zur Burschenschaft Normannia (vorher Kü
 fa ab 19.00)\n\nAm 28. August 2020 kam es zu einem an
 tisemitischen Übergriff auf dem Haus der Burschenschaft
  Normannia: Ein Mitglied der Landsmannschaft Afrania wu
 rde von den Burschenschaftern, nachdem er erzählt hatte
 , dass er eine jüdische Großmutter hat, mit Gürteln ver
 prügelt und mit Geld beworfen. In Folge des Vorfalls na
 hm die Staatsanwaltschaft Ermittlungen auf und die Norm
 annia löste ihre Aktivitas, die aktive Studentenschaft,
  auf. Das Verfahren war geprägt von Schweigen und Lügen
  seitens der Burschenschafter und im Urteil wurde das p
 olitische Motiv nicht anerkannt.\n\nDie Normannia war
  Mitglied im Verband \"Deutsche Burschenschaft\", der 2
 011 einen Ariernachweis für seine Mitglieder einführte.
  Sie war seit vielen Jahren bekannt für das \"Rumgehitl
 ere\" auf ihrem Haus, beliebte Location für rechtsradik
 ale Veranstaltungen und hat unter anderem Mitglieder de
 r Identitären Bewegung in ihren Reihen. Diese waren 201
 9 am Angriff auf das linke Zentrum \"Ewwe longt´s\" in 
 Mannheim beteiligt. \n\nSeit 2020 gibt es in Heidelbe
 rg zwar keine studierenden Normannen mehr, aber die Naz
 i-Burschenschaft ist damit nicht aufgelöst. Und aktuell
  hofft sie offenbar, dass genug Gras über den antisemit
 ischen Angriff gewachsen ist und sie die Burschenschaft
  wiederbeleben kann. Sollte sie versuchen, ein neues Ka
 pitel zu starten, stehen wir bereit, um das zu verhinde
 rn! Dafür wollen wir das Wissen über die Burschenschaft
  Normannia - auch im Hinblick auf die feministische und
  antifaschistische Vorabenddemo zum 1. Mai - mit einem 
 Input bei der Küfa mal wieder auffrischen. Ab 19 Uhr gi
 bt´s veganes Essen, um 20 Uhr den Input. \n\n\"Ich fa
 sse es nicht, dass es der Antifa [...] offenbar in kürz
 ester Zeit gelungen ist, jahrzehntelang gewachsene Freu
 ndschaften völlig unnötig zu zerstören.\" - Götz Goebel
 , Alter Herr der Burschenschaft Normannia über deren Ni
 edergang"
DTSTAMP:20260416T185856Z
URL:"https://sofo-hd.de/event/1775583738"
END:VEVENT
BEGIN:VEVENT
UID:1771751872@sofo-hd.de
DTSTART:20260427T170000Z
SUMMARY:"Fantifa mit feministischem Pubquiz (FLINTA* only)"
LOCATION:gegendruck
DESCRIPTION:"Fantifa - der FLINTA*-Abend im Gegendruck (FLINTA* onl
 y)\n\nDiesmal gibt es ein feministisches Pubquiz.\n
 \nMit dem FLINTA* only-Abend \"Fantifa\" wollen wir die
  eigenständige Vernetzung von Frauen, Lesben, inter, no
 n binary, trans und agender Personen in linken Räumen s
 tärken. \nDas Fantifa ist, was wir draus machen, also 
 bring dich und deine Ideen ein!\n\nOb bei politischem
  Austausch, mitgebrachtem veganen Essen oder einem gute
 n Film und anschließendem gemütlichen Austausch bei lec
 keren Getränken: wir FLINTA* nehmen uns Raum!\n\nDas 
 Akronym Fantifa stammt aus den 1980ern und steht für Fr
 auen Antifa oder feministische Antifa. Die Fantifa bild
 ete sich als Reaktion auf sexistische Macker-Strukturen
  innerhalb von Antifa-Gruppen. Da diese nach wie vor ni
 cht überwunden sind, knüpfen wir mit unserem FLINTA* on
 ly-Abend an diese Tradition an."
DTSTAMP:20260408T074205Z
URL:"https://sofo-hd.de/event/1771751872"
END:VEVENT
BEGIN:VEVENT
UID:1775641357@sofo-hd.de
DTSTART:20260428T170000Z
SUMMARY:"Pizza und Plenum: Plenum der Seebrücke zum neu Einstei
 gen"
LOCATION:"Haus der Christuskirche (3. OG), Zähringer Str. 26"
DESCRIPTION:"Pizza und Plenum: Plenum der Seebrücke zum neu Einstei
 gen"
DTSTAMP:20260410T163434Z
URL:"https://sofo-hd.de/event/1775641357"
END:VEVENT
BEGIN:VEVENT
UID:1775641462@sofo-hd.de
DTSTART:20260430T170000Z
SUMMARY:"Antifaschistische Vorabend-Demo „Burschis in den Necka
 r fegen!“"
LOCATION:stabu
DESCRIPTION:"Antifaschistische Vorabend-Demo „Burschis in den Necka
 r fegen! Feministisch und antifaschistisch in den 1. Ma
 i“\n\nVeranstaltet von AIHD, Seebrücke, Falken, VVN-B
 dA, ROSA  Hochschulgruppe und Linksjugend ['solid]"
DTSTAMP:20260408T074625Z
URL:"https://sofo-hd.de/event/1775641462"
END:VEVENT
BEGIN:VEVENT
UID:1775842212@sofo-hd.de
DTSTART:20260501T071000Z
SUMMARY:"Zugtreffpunkt: Heraus zum 1. Mai!"
LOCATION:"Treffpunkt: Hauptbahnhof Heidelberg"
DESCRIPTION:"Seit über 100 Jahren wird der 1. Mai als Arbeiter*inne
 nkampftag begangen. Wir fahren dieses Jahr wieder nach 
 Mannheim und nehmen dort im antikapitalistischen Block 
 an der DGB-Demo und im Anschluss an der revolutionären 
 1. Mai-Demonstration teil - um für linke solidarische G
 egenentwürfe zu den ausbeuterischen und unterdrückerisc
 hen kapitalistischen Verhältnissen zu kämpfen.\n\nDee
  Zugtreffpunkt wird organisiert von der AIHD."
DTSTAMP:20260410T153235Z
URL:"https://sofo-hd.de/event/1775842212"
END:VEVENT
BEGIN:VEVENT
UID:1771751930@sofo-hd.de
DTSTART:20260501T180000Z
SUMMARY:"Antifa Siempre! Der offene Infoabend der AIHD"
LOCATION:gegendruck
DESCRIPTION:"Antifa Siempre! Der offene Infoabend der Antifaschisti
 schen Initiative Heidelberg: Input, Diskussion, Kneipen
 abend; immer am 1. Freitag im Monat\n\nSeit der 1. Ma
 i im Jahr 1890 erstmalig als Protest- und Kampftag für 
 die Rechte der Arbeiter*innen begangen wurde, war er im
 mer wieder staatlicher Repression ausgesetzt. 1929 stei
 gerten sich die polizeilichen Angriffe zu einem Blutbad
 , als der sozialdemokratische Polizeipräsident Karl Zör
 giebel alle Demonstrationen am 1. Mai verboten hatte. D
 ie KPD rief dennoch zu Protestzügen auf und die Arbeite
 r*innen nahmen sich die Straße. Am Nachmittag des 1. Ma
 i setzte die Polizei nicht nur Knüppel, sondern auch zu
 nehmend Schusswaffen ein, griff wahllos nicht nur Demon
 strierende, sondern auch Passant*innen an und erschoss 
 sogar mehrere Anwohner*innen in ihren Wohnungen. Die st
 aatlichen Gewaltexzesse dauerten noch zwei Tage an. Dut
 zende Arbeiter*innen wurden von den enthemmten Einsatzk
 räften ermordet. Trotz anhaltender Empörung gab es staa
 tlicherseits keine Untersuchung der Vorfälle - stattdes
 sen aber eine neue Repressionswelle gegen die kommunist
 ische Bewegung.\n\nBei unserem Input wollen wir einen
  Blick auf das mehrtägige polizeiliche Massaker werfen,
  das als Berliner Blutmai in die Geschichte einging.\n
 \nDas Antifa Siempre! will einen Ort für antifaschisti
 sche Vernetzung und Austausch für Einzelpersonen und Gr
 uppen schaffen: Nach einem inhaltlichen Input ist Raum 
 für Diskussionen zu aktuellen Themen und bevorstehenden
  Veranstaltungen. Bei kühlen Getränken lassen wir den A
 bend gemeinsam ausklingen und wollen miteinander ins Ge
 spräch kommen."
DTSTAMP:20260408T074744Z
URL:"https://sofo-hd.de/event/1771751930"
END:VEVENT
BEGIN:VEVENT
UID:1775641823@sofo-hd.de
DTSTART:20260502T170000Z
SUMMARY:"Konzert mit den PARTISANEN VON L'AMOUR"
LOCATION:"Murx, Oberbadgasse 6"
DESCRIPTION:"Arbeiterlieder: Konzert mit den PARTISANEN VON L'AMOUR
 \n\nVeranstaltet von SJD - Die Falken Heidelberg"
DTSTAMP:20260408T075156Z
URL:"https://sofo-hd.de/event/1775641823"
END:VEVENT
BEGIN:VEVENT
UID:1775641936@sofo-hd.de
DTSTART:20260503T150000Z
SUMMARY:"Antifaschistischer Stadtrundgang \"Heidelberg im Natio
 nalsozialismus - Verfolgung und Widerstand\""
LOCATION:"Treffpunkt: Ecke Hauptstr./Theaterstr."
DESCRIPTION:"Die VVN-BdA Heidelberg und die Antifaschistische Initi
 ative Heidelberg veranstalten den Antifaschistischen St
 adtrundgang „Heidelberg im Nationalsozialismus – Verfol
 gung und Widerstand“. Treffpunkt ist um 17 Uhr an der E
 cke Hauptstraße/Theaterstraße.\nDer zweieinhalbstündig
 e Antifaschistische Stadtrundgang führt durch die Heide
 lberger Altstadt. Er bietet einen Überblick über den Na
 tionalsozialismus in Heidelberg von seinem frühen Ersta
 rken in der Weimarer Republik bis hin zur Befreiung und
  verweist auch auf die Nachwirkungen in der frühen BRD.
  An verschiedenen historischen Orten wird an Täter*inne
 n und Opfer erinnert, aber auch an Menschen, die es gew
 agt haben, Widerstand zu leisten."
DTSTAMP:20260408T075314Z
URL:"https://sofo-hd.de/event/1775641936"
END:VEVENT
BEGIN:VEVENT
UID:1775642026@sofo-hd.de
DTSTART:20260504T153000Z
SUMMARY:"Gemeinsames veganes Kochen & Essen"
LOCATION:stura
DESCRIPTION:"Gemeinsames veganes Kochen & Essen im Stura-Büro/Küche
 \n\nVeranstaltet von ROSA Hochschulgruppe (Resolute O
 rganisation für Solidarität und Antikapitalismus)\n\n
 "
DTSTAMP:20260408T075450Z
URL:"https://sofo-hd.de/event/1775642026"
END:VEVENT
BEGIN:VEVENT
UID:1775642093@sofo-hd.de
DTSTART:20260506T170000Z
SUMMARY:"Vortrag: Warum wird im Kapitalismus alles immer schlim
 mer? Einführung und moderne Perspektiven auf marxistisc
 he Krisentheorie"
LOCATION:stura
DESCRIPTION:"Vortrag: Warum wird im Kapitalismus alles immer schlim
 mer? Einführung und moderne Perspektiven auf marxistisc
 he Krisentheorie\n\nStura-Büro, Raum 61\n\nVeransta
 ltet von: ROSA Hochschulgruppe (Resolute Organisation f
 ür Solidarität und Antikapitalismus) und Linksjugend ['
 solid]"
DTSTAMP:20260408T075627Z
URL:"https://sofo-hd.de/event/1775642093"
END:VEVENT
BEGIN:VEVENT
UID:1775642203@sofo-hd.de
DTSTART:20260507T170000Z
SUMMARY:"Filmabend der ['solid]"
LOCATION:"Theodor-Körner-Straße 7 (Linke-Büro)"
DESCRIPTION:"Filmabend\n\nVeranstaltet von Linksjugend ['solid]"
DTSTAMP:20260408T075745Z
URL:"https://sofo-hd.de/event/1775642203"
END:VEVENT
BEGIN:VEVENT
UID:1775642376@sofo-hd.de
DTSTART:20260510T100000Z
SUMMARY:"Friiling uffm Willi"
LOCATION:Wilhelmsplatz
DESCRIPTION:"Infostände, Bücherflohmarkt und Tombola bei \"Friiling
  uffm Willi\":\n\nBeim alternativen Frühlingsmarkt \"
 Friiling uffm Willi\" auf dem Wilhelmsplatz in der West
 stadt sind dieses Jahr die Seebrücke Heidelberg, die AI
 HD, die VVN-BdA Heidelberg und die Rote Hilfe Heidelber
 g/Mannheim dabei. Neben Infoständen bietet die AIHD ein
 en linken Bücherflohmarkt zur Unterstützung des Café Ge
 gendrucks an und die Seebrücke eine Tombola mit tollen 
 Preisen - antifaschistische Kleidung, Schallplatten, Ba
 delatschen, Kunstdrucke und vieles mehr."
DTSTAMP:20260408T080100Z
URL:"https://sofo-hd.de/event/1775642376"
END:VEVENT
BEGIN:VEVENT
UID:1775642477@sofo-hd.de
DTSTART:20260510T100000Z
SUMMARY:"Wanderung nach Neckargemünd/-steinach Burgenrunde"
LOCATION:"S-Bahnhof Altstadt"
DESCRIPTION:"Wanderung nach Neckargemünd/Steinach Burgenrunde\n\n
 Veranstaltet von: SJD - Die Falken Heidelberg"
DTSTAMP:20260408T091041Z
URL:"https://sofo-hd.de/event/1775642477"
END:VEVENT
END:VCALENDAR
