BEGIN:VCALENDAR
VERSION:2.0
PRODID:http://sofo-hd.de
BEGIN:VEVENT
UID:1757447476@sofo-hd.de
DTSTART:20260512T170000Z
SUMMARY:"Treffen der Initiative Stolpersteine Heidelberg"
LOCATION:vhs
DTSTAMP:20250909T175110Z
URL:"https://sofo-hd.de/event/1757447476"
END:VEVENT
END:VCALENDAR
